Workbook

Sheet 월간식단표
A1: 8월 월간식단표
A2: =주간식단표!A2 -> 구 분 | B2: =주간식단표!B2 -> 29(월) | C2: =주간식단표!C2 -> 30(화) | D2: =주간식단표!D2 -> 31(수) | E2: =주간식단표!E2 -> 8/1(목) | F2: =주간식단표!F2 -> 2(금) | G2: =주간식단표!G2 -> 3(토) | H2: =주간식단표!H2 -> 4(일)
A3: 정성이 가득한 점 심 | B3: =주간식단표!B3 -> 무청시래기국 돈까스/파인소스 가지양념무침 콩나물무침 배추김치 | C3: =주간식단표!C3 -> 콩나물맑은국 돈육김치불고기 오이도라지무침 어묵양파볶음 배추김치 | D3: =주간식단표!D3 -> 건새우아욱국 마파두부 새송이브로컬리볶음 청경채겉절이 배추김치 | E3: =주간식단표!E3 -> 바지락미역국 가자미무조림 햄마늘쫑볶음 상추양배추무침 배추김치 | F3: =주간식단표!F3 -> 다슬기해장국 고추잡채 꼬시래기오이무침 숙주부추무침 배추김치 | G3: =주간식단표!G3 -> 팽이두부된장국 닭야채볶음 실곤약버섯잡채 가지찜양념무침 배추김치
A10: 건강을 생각하는 저 녁 | B10: =주간식단표!B10 -> 순두부김치국 야채자장볶음 단무지무침 호박야채ㅐ볶음 배추김치 | C10: =주간식단표!C10 -> 얼갈이된장국 삼치무조림 참나물상추무침 미역오이무침 배추김치 | D10: =주간식단표!D10 -> 팽이호박된장국 캔꽁치무조림 도토리묵/양념장 미역줄기볶음 배추김치 | E10: =주간식단표!E10 -> 근대된장국 옥수수계란찜 청경채겉절이 알감자조림 배추김치 | F10: =주간식단표!F10 -> 어묵콩나물국 두부탕수 시래기조림 참나물쑥갓무침 배추김치 | G10: =주간식단표!G10 -> 김치돈육찌개 버섯당면잡채 어묵야채볶음 양배추그린샐러드 배추김치
A17: 구 분 | B17: =주간식단표!B20 -> 5월) | C17: =주간식단표!C20 -> 6(화) | D17: =주간식단표!D20 -> 7(수) | E17: =주간식단표!E20 -> 8(목) | F17: =주간식단표!F20 -> 9(금) | G17: =주간식단표!G20 -> 10(토) | H17: =주간식단표!H20 -> 11(일)
A18: 정성이 가득한 점 심 | B18: =주간식단표!B21 -> 김치콩나물국 고등어무조림 마늘쫑호박볶음 미역오이초무침 배추김치 | C18: =주간식단표!C21 -> 건새우아욱국 돈육김치불고기 브로컬리햄볶음 간장깻잎지 배추김치 | D18: =주간식단표!D21 -> 바지락미역국 탕수육 /레몬소스 어묵야채볶음 열무된장무침 배추김치 | E18: =주간식단표!E21 -> 꽃게매운탕 순대깻잎볶음 숙주부추무침 오이나박무침 배추김치 | F18: =주간식단표!F21 -> 가츠오부씨어묵국 닭정육묵은지볶음 청포묵김가루무침 참나물양배추무침 배추김치 | G18: =주간식단표!G21 -> 얼갈이된장국 돈육야채짜장볶음 청경채야채무침 단무지무침 배추김치
A25: 건강을 생각하는 저 녁 | B25: =주간식단표!B28 -> 우렁살된장국 계란장조림 멸치시래기조림 참나물그린샐러드 배추김치 | C25: =주간식단표!C28 -> 청국장찌개 삼치구이 고사리양파볶음 상추야채무침 배추김치 | D25: =주간식단표!D28 -> 돈등뼈우거지국 부추당면잡채 콩나물무침 양파고추간장지 배추김치 | E25: =주간식단표!E28 -> 바지락수제비국 참치무조림 가지찜무침 연근우엉채조림 배추김치 | F25: =주간식단표!F28 -> 근대된장국 해물동그랑땡전 무장아찌무침 호박새우젓조림 배추김치 | G25: =주간식단표!G28 -> 바지락두부무국 오삼불고기 미역줄기볶음 도토리묵무침 배추김치
A32: 구 분 | B32: =주간식단표!B37 -> 12월) | C32: =주간식단표!C37 -> 13(화) | D32: =주간식단표!D37 -> 14(수) | E32: =주간식단표!E37 -> 15(목) | F32: =주간식단표!F37 -> 16(금) | G32: =주간식단표!G37 -> 17(토) | H32: =주간식단표!H37 -> 18(일)
A33: 정성이 가득한 점 심 | B33: =주간식단표!B38 -> 바지락미역국 탕수육 /후르츠소스 새송이죽순볶음 어묵야채볶음 배추김치 | C33: =주간식단표!C38 -> 얼갈이된장국 돈육김치불고기 브로컬리햄볶음 도토리묵야채무침 배추김치 | D33: =주간식단표!D38 -> 냉이된장국 유산슬 오이야채무침 푸실리야채샐러드 배추김치 | E33: =주간식단표!E38 -> 바지락수제비국 동태무조림 콩나물부추무침 미역줄기맛살볶음 배추김치 | F33: =주간식단표!F38 -> 건새우아욱국 마파두부 상추쑥갓무침 마늘쫑버섯볶음 배추김치 | G33: =주간식단표!G38 -> 콩나물무채국 닭묵은지볶음 죽순버섯들깨볶음 양파고추장아찌 배추김치
A40: 건강을 생각하는 저 녁 | B40: =주간식단표!B45 -> 근대국 삼치양파조림 상추양배추무침 간장깻잎지 배추김치 | C40: =주간식단표!C45 -> 물만두야채국 청파래오징어까스 우렁강된장 열무된장무침 배추김치 | D40: =주간식단표!D45 -> 맑은순두부국 캔꽁치무조림 애호박양파볶음 참나물팽이초무침 배추김치 | E40: =주간식단표!E45 -> 올갱이해장국 야채계란찜 가지찜/ 양념장 오징어젓야채무침 배추김치 | F40: =주간식단표!F45 -> 유부팽이무채국 돈육간장불고기 무장아찌무침 오이맛살샐러드 배추김치 | G40: =주간식단표!G45 -> 북어미역국 가자미무조림 양파간장볶음 도라지오이무침 배추김치
A47: 구 분 | B47: =주간식단표!B54 -> 19(월) | C47: =주간식단표!C54 -> 20(화) | D47: =주간식단표!D54 -> 21(수) | E47: =주간식단표!E54 -> 22(목) | F47: =주간식단표!F54 -> 23(금) | G47: =주간식단표!G54 -> 24토) | H47: =주간식단표!H54 -> 25일)
A48: 정성이 가득한 점 심 | B48: =주간식단표!B55 -> 꽃게매운탕 순대야채볶음 미역오이초무침 양상추푸실리샐럿 배추김치 | C48: =주간식단표!C55 -> 조갯살미역국 돈육김치볶음 어묵야채볶음 상추야채무침 배추김치 | D48: =주간식단표!D55 -> 바지락냉이국 야채짜장볶음 프랑크마늘쫑볶음 오이양파무침 배추김치 | E48: =주간식단표!E55 -> 아욱된장국 생선까스/타르소스 도토리묵쑥갓무침 미역줄기볶음 배추김치 | F48: =주간식단표!F55 -> 청국장찌개 닭야채매운볶음 브로컬리맛살볶음 콩나물부추무침 배추김치 | G48: =주간식단표!G55 -> 얼갈이된장국 목이당면잡채 무장아찌무침 오이양파무침 배추김치
A55: 건강을 생각하는 저 녁 | B55: =주간식단표!B62 -> 근대된장국 두부양념조림 동그랑땡피망볶음 청경채초무침 배추김치 | C55: =주간식단표!C62 -> 콩가루배춧국 고등어조림 숙주부추무침 새송이양배추무침 배추김치 | D55: =주간식단표!D62 -> 떡만두국 야채고추참치 열무쌈장무침 오징어젓무침 배추김치 | E55: =주간식단표!E62 -> 김치돈육찌개 계란장조림 참나물흑임자샐럿 시래기지짐 배추김치 | F55: =주간식단표!F62 -> 홍합두부무국 삼치구이데리야끼 새송이미나리무침 고구마순들깨볶음 배추김치 | G55: =주간식단표!G62 -> 김치콩나물국 동그랑땡야채볶음 어묵곤약조림 참나물팽이무침 배추김치
A62: 구 분 | B62: =주간식단표!B71 -> 26(월) | C62: =주간식단표!C71 -> 27(화) | D62: =주간식단표!D71 -> 28(수) | E62: =주간식단표!E71 -> 29(목) | F62: =주간식단표!F71 -> 30(금) | G62: =주간식단표!G71 -> 31(토)
A63: 정성이 가득한 점 심 | B63: =주간식단표!B72 -> 무청시래기국 돈까스/파인소스 두반장가지볶음 청포묵야채무침 배추김치 | C63: =주간식단표!C72 -> 바지락미역국 돈육김치불고기 오이야채무침 숙주나물무침 배추김치 | D63: =주간식단표!D72 -> 건새우아욱국 부대야채볶음 새송이양배추무침 열무된장무침 배추김치 | E63: =주간식단표!E72 -> 꽃게호박된장국 가자미무조림 콩나물부추무침 어묵야채볶음 배추김치 | F63: =주간식단표!F72 -> 다슬기해장국 고추잡채 에호박양파볶음 양상추그린샐러드 배추김치 | G63: =주간식단표!G72 -> 팽이두부된장국 닭야채볶음 브로컬리햄볶음 가지찜양념무침 배추김치
A70: 건강을 생각하는 저 녁 | B70: =주간식단표!B79 -> 순두부김치국 꽁치캔무조림 감자엿장조림 얼갈이된장무침 배추김치 | C70: =주간식단표!C79 -> 얼갈이된장국 삼치무조림 참나물상추무침 미역오이무침 배추김치 | D70: =주간식단표!D79 -> 팽이두부된장국 오징어고로깨 청경채겉절이 미역줄기볶음 배추김치 | E70: =주간식단표!E79 -> 근대된장국 옥수수계란찜 마늘쫑버섯볶음 알감자조림 배추김치 | F70: =주간식단표!F79 -> 어묵콩나물국 동태조림 시래기조림 실곤약야채무침 배추김치 | G70: =주간식단표!G79 -> 김치돈육찌개 버섯당면잡채 어묵야채볶음 양배추그린샐러드 배추김치
A78: 위식단은 식재료 수급 및 식단 향상을 위해 변경될 수 있습니다.

Sheet 주간식단표
A1: 주간식단표
A2: 구 분 | B2: 29(월) | C2: 30(화) | D2: 31(수) | E2: 8/1(목) | F2: 2(금) | G2: 3(토) | H2: 4(일)
A3: 정성이 가득한 점 심 | B3: 무청시래기국 돈까스/파인소스 가지양념무침 콩나물무침 배추김치 | C3: 콩나물맑은국 돈육김치불고기 오이도라지무침 어묵양파볶음 배추김치 | D3: 건새우아욱국 마파두부 새송이브로컬리볶음 청경채겉절이 배추김치 | E3: 바지락미역국 가자미무조림 햄마늘쫑볶음 상추양배추무침 배추김치 | F3: 다슬기해장국 고추잡채 꼬시래기오이무침 숙주부추무침 배추김치 | G3: 팽이두부된장국 닭야채볶음 실곤약버섯잡채 가지찜양념무침 배추김치 | H3: 소고기무국 두부양념조림 참나물무침 양파장아찌 배추김치
A10: 건강을 생각하는 저 녁 | B10: 순두부김치국 야채자장볶음 단무지무침 호박야채ㅐ볶음 배추김치 | C10: 얼갈이된장국 삼치무조림 참나물상추무침 미역오이무침 배추김치 | D10: 팽이호박된장국 캔꽁치무조림 도토리묵/양념장 미역줄기볶음 배추김치 | E10: 근대된장국 옥수수계란찜 청경채겉절이 알감자조림 배추김치 | F10: 어묵콩나물국 두부탕수 시래기조림 참나물쑥갓무침 배추김치 | G10: 김치돈육찌개 버섯당면잡채 어묵야채볶음 양배추그린샐러드 배추김치 | H10: 건새우미역국 닭살야채볶음 깻순나물 청포묵/양념장 배추김치
A18: 위식단은 식재료 수급 및 식단 향상을 위해 변경될 수 있습니다.
A19: 주간식단표
A20: 구 분 | B20: 5월) | C20: 6(화) | D20: 7(수) | E20: 8(목) | F20: 9(금) | G20: 10(토) | H20: 11(일)
A21: 정성이 가득한 점 심 | B21: 김치콩나물국 고등어무조림 마늘쫑호박볶음 미역오이초무침 배추김치 | C21: 건새우아욱국 돈육김치불고기 브로컬리햄볶음 간장깻잎지 배추김치 | D21: 바지락미역국 탕수육 /레몬소스 어묵야채볶음 열무된장무침 배추김치 | E21: 꽃게매운탕 순대깻잎볶음 숙주부추무침 오이나박무침 배추김치 | F21: 가츠오부씨어묵국 닭정육묵은지볶음 청포묵김가루무침 참나물양배추무침 배추김치 | G21: 얼갈이된장국 돈육야채짜장볶음 청경채야채무침 단무지무침 배추김치 | H21: 열무시래기국 소고기야채볶음 감자엿장조림 참나물무침 배추김치
A28: 건강을 생각하는 저 녁 | B28: 우렁살된장국 계란장조림 멸치시래기조림 참나물그린샐러드 배추김치 | C28: 청국장찌개 삼치구이 고사리양파볶음 상추야채무침 배추김치 | D28: 돈등뼈우거지국 부추당면잡채 콩나물무침 양파고추간장지 배추김치 | E28: 바지락수제비국 참치무조림 가지찜무침 연근우엉채조림 배추김치 | F28: 근대된장국 해물동그랑땡전 무장아찌무침 호박새우젓조림 배추김치 | G28: 바지락두부무국 오삼불고기 미역줄기볶음 도토리묵무침 배추김치 | H28: 김치콩나물국 닭살두반장볶음 두부부침 오징어젓무침 배추김치
A35: 위식단은 식재료 수급 및 식단 향상을 위해 변경될 수 있습니다.
A36: 주간식단표
A37: 구 분 | B37: 12월) | C37: 13(화) | D37: 14(수) | E37: 15(목) | F37: 16(금) | G37: 17(토) | H37: 18(일)
A38: 정성이 가득한 점 심 | B38: 바지락미역국 탕수육 /후르츠소스 새송이죽순볶음 어묵야채볶음 배추김치 | C38: 얼갈이된장국 돈육김치불고기 브로컬리햄볶음 도토리묵야채무침 배추김치 | D38: 냉이된장국 유산슬 오이야채무침 푸실리야채샐러드 배추김치 | E38: 바지락수제비국 동태무조림 콩나물부추무침 미역줄기맛살볶음 배추김치 | F38: 건새우아욱국 마파두부 상추쑥갓무침 마늘쫑버섯볶음 배추김치 | G38: 콩나물무채국 닭묵은지볶음 죽순버섯들깨볶음 양파고추장아찌 배추김치 | H38: 배추된장국 돈육간장불고기 호박새우젓무침 건파래볶음 배추김치
A45: 건강을 생각하는 저 녁 | B45: 근대국 삼치양파조림 상추양배추무침 간장깻잎지 배추김치 | C45: 물만두야채국 청파래오징어까스 우렁강된장 열무된장무침 배추김치 | D45: 맑은순두부국 캔꽁치무조림 애호박양파볶음 참나물팽이초무침 배추김치 | E45: 올갱이해장국 야채계란찜 가지찜/ 양념장 오징어젓야채무침 배추김치 | F45: 유부팽이무채국 돈육간장불고기 무장아찌무침 오이맛살샐러드 배추김치 | G45: 북어미역국 가자미무조림 양파간장볶음 도라지오이무침 배추김치 | H45: 순두부국 야채계란말이 어묵양파볶음 조개젓무침 배추김치
A52: 위식단은 식재료 수급 및 식단 향상을 위해 변경될 수 있습니다.
A53: 주간식단표
A54: 구 분 | B54: 19(월) | C54: 20(화) | D54: 21(수) | E54: 22(목) | F54: 23(금) | G54: 24토) | H54: 25일)
A55: 정성이 가득한 점 심 | B55: 꽃게매운탕 순대야채볶음 미역오이초무침 양상추푸실리샐럿 배추김치 | C55: 조갯살미역국 돈육김치볶음 어묵야채볶음 상추야채무침 배추김치 | D55: 바지락냉이국 야채짜장볶음 프랑크마늘쫑볶음 오이양파무침 배추김치 | E55: 아욱된장국 생선까스/타르소스 도토리묵쑥갓무침 미역줄기볶음 배추김치 | F55: 청국장찌개 닭야채매운볶음 브로컬리맛살볶음 콩나물부추무침 배추김치 | G55: 얼갈이된장국 목이당면잡채 무장아찌무침 오이양파무침 배추김치 | H55: 북어무국 소고기불고기 콩나물무침 멸치견과류볶음 배추김치
A62: 건강을 생각하는 저 녁 | B62: 근대된장국 두부양념조림 동그랑땡피망볶음 청경채초무침 배추김치 | C62: 콩가루배춧국 고등어조림 숙주부추무침 새송이양배추무침 배추김치 | D62: 떡만두국 야채고추참치 열무쌈장무침 오징어젓무침 배추김치 | E62: 김치돈육찌개 계란장조림 참나물흑임자샐럿 시래기지짐 배추김치 | F62: 홍합두부무국 삼치구이데리야끼 새송이미나리무침 고구마순들깨볶음 배추김치 | G62: 김치콩나물국 동그랑땡야채볶음 어묵곤약조림 참나물팽이무침 배추김치 | H62: 시금치된장국 순살닭볶음 어묵볶음 마늘쫑고추장무침 배추김치
A69: 위식단은 식재료 수급 및 식단 향상을 위해 변경될 수 있습니다.
A70: 주간식단표
B71: 26(월) | C71: 27(화) | D71: 28(수) | E71: 29(목) | F71: 30(금) | G71: 31(토)
A72: 정성이 가득한 점 심 | B72: 무청시래기국 돈까스/파인소스 두반장가지볶음 청포묵야채무침 배추김치 | C72: 바지락미역국 돈육김치불고기 오이야채무침 숙주나물무침 배추김치 | D72: 건새우아욱국 부대야채볶음 새송이양배추무침 열무된장무침 배추김치 | E72: 꽃게호박된장국 가자미무조림 콩나물부추무침 어묵야채볶음 배추김치 | F72: 다슬기해장국 고추잡채 에호박양파볶음 양상추그린샐러드 배추김치 | G72: 팽이두부된장국 닭야채볶음 브로컬리햄볶음 가지찜양념무침 배추김치
A79: 건강을 생각하는 저 녁 | B79: 순두부김치국 꽁치캔무조림 감자엿장조림 얼갈이된장무침 배추김치 | C79: 얼갈이된장국 삼치무조림 참나물상추무침 미역오이무침 배추김치 | D79: 팽이두부된장국 오징어고로깨 청경채겉절이 미역줄기볶음 배추김치 | E79: 근대된장국 옥수수계란찜 마늘쫑버섯볶음 알감자조림 배추김치 | F79: 어묵콩나물국 동태조림 시래기조림 실곤약야채무침 배추김치 | G79: 김치돈육찌개 버섯당면잡채 어묵야채볶음 양배추그린샐러드 배추김치
A86: 위식단은 식재료 수급 및 식단 향상을 위해 변경될 수 있습니다.

Sheet Sheet1 (2)
A1: 주 간 식단 표(2019. 7.29~ 8.31)
A2: 구 분 | B2: 29(월) | C2: 30(화) | D2: 31(수) | E2: 8/1(목) | F2: 2(금) | G2: 3(토) | H2: 4(일)
B3: 호박된장국 자반고등어조림 볼어묵조림 파래자반볶음 배추김치 | C3: 시금치국 계란스크램블 마늘쫑맛살볶음 연근조림 배추김치 | D3: 다시마무채국 소고기불고기 묵은지된장지짐 쪽파김무침 배추김치 | E3: 북어계란국 돈육감자조림 애호박무침 무장아찌무침 배추김치 | F3: 참치김치국 조기구이 볼어묵양파조림 오징어젓무침 배추김치 | G3: 토란감자국 꽁치구이조림 감자채볶음 조개젓무침 배추김치 | H3: 열무된장국 메알양파조림 고구마순볶음 오이무침 배추김치
A5: 행복을
A6: 여는
A7: 아 침
A10: 정성이 가득한 점 심 | B10: 무청시래기국 돈까스/파인소스 가지양념무침 콩나물무침 그린샐러드 배추김ㅁ치 | C10: 콩나물맑은국 돈육김치불고기 오이도라지무침 어묵양파볶음 만두튀김/소스 배추김치 | D10: 건새우아욱국 마파두부 새송이브로컬리볶음 청경채겉절이 오징어젓무침 배추김치 | E10: 바지락미역국 가자미무조림 /감자고로께 햄마늘쫑볶음 상추양배추무침 옥수수콘샐러드 배추김치 | F10: 다슬기해장국 고추잡채 꼬시래기오이무침 숙주부추무침 미니돈까스/케찹 배추김치 | G10: 팽이두부된장국 닭야채볶음 실곤약버섯잡채 가지찜양념무침 배추김치 | H10: 소고기무국 두부양념조림 참나물무침 양파장아찌 배추김치
A17: 건강을 생각하는 저 녁 | B17: 순두부김치국 야채자장볶음 단무지무침 호박야채ㅐ볶음 배추김치 | C17: 얼갈이된장국 삼치무조림 참나물상추무침 미역오이무침 배추김치 | D17: 팽이호박된장국 캔꽁치무조림 도토리묵/양념장 미역줄기볶음 배추김치 | E17: 근대된장국 옥수수계란찜 청경채겉절이 알감자조림 배추김치 | F17: 어묵콩나물국 두부탕수 시래기조림 참나물쑥갓무침 배추김치 | G17: 김치돈육찌개 버섯당면잡채 어묵야채볶음 양배추그린샐러드 배추김치 | H17: 건새우미역국 닭살야채볶음 깻순나물 청포묵/양념장 배추김치
A24: 돼지고기, 닭고기, 쌀 - 국내산, 소고기 -호주산, 김치(배추 - 국내산), 육가공품 - 개별 기재
A25: 위식단은 식재료 수급 및 식단 향상을 위해 변경될 수 있습니다.
A33: 구 분 | B33: 5월) | C33: 6(화) | D33: 7(수) | E33: 8(목) | F33: 9(금) | G33: 10(토) | H33: 11(일)
B34: 순두부계란국 돈육곤약야채조림 꼬시래기무침 멸치견과류볶음 배추김치 | C34: 북어국 가자미조림 꽈리고추찜무침 볼어묵조림 배추김치 | D34: 시금치국 두부야채조림 건파래볶음 조개젓무침 배추김치 | E34: 바지락무국 소고기볶음 고구마순나물 오징어젓무침 배추김치 | F34: 열무된장국 조기구이 호박새우젓조림 오이무침 배추김치 | G34: 콩나물국 가자미조림 고사리나물 양파간장볶음 배추김치 | H34: 감자토란국 꽁치데리조림 애호박볶음 오이고추쌈장무침 배추김치
A36: 행복을
A37: 여는
A38: 아 침
A41: 정성이 가득한 점 심 | B41: 김치콩나물국 고등어무조림 /미니돈까스/소스 마늘쫑호박볶음 미역오이초무침 오징어젓무침 배추김치 | C41: 건새우아욱국 돈육김치불고기 브로컬리햄볶음 간장깻잎지 만두튀김/소스 배추김치 | D41: 바지락미역국 탕수육 /레몬소스 어묵야채볶음 열무된장무침 옥수수콘샐러드 배추김치 | E41: 꽃게매운탕 순대깻잎볶음 숙주부추무침 오이나박무침 고구마야채튀김 배추김치 | F41: 가츠오부씨어묵국 닭정육묵은지볶음 / 떡갈비데리야끼 청포묵김가루무침 참나물양배추무침 깻잎양념지 배추김치 | G41: 얼갈이된장국 돈육야채짜장볶음 청경채야채무침 단무지무침 배추김치 | H41: 열무시래기국 소고기야채볶음 감자엿장조림 참나물무침 배추김치
A48: 건강을 생각하는 저 녁 | B48: 우렁살된장국 계란장조림 멸치시래기조림 참나물그린샐러드 배추김치 | C48: 청국장찌개 삼치구이 고사리양파볶음 상추야채무침 배추김치 | D48: 돈등뼈우거지국 부추당면잡채 콩나물무침 양파고추간장지 배추김치 | E48: 바지락수제비국 참치무조림 가지찜무침 연근우엉채조림 배추김치 | F48: 근대된장국 해물동그랑땡전 무장아찌무침 호박새우젓조림 배추김치 | G48: 바지락두부무국 오삼불고기 미역줄기볶음 도토리묵무침 배추김치 | H48: 김치콩나물국 닭살두반장볶음 두부부침 오징어젓무침 배추김치
A56: 위식단은 식재료 수급 및 식단 향상을 위해 변경될 수 있습니다.
A65: 구 분 | B65: 12월) | C65: 13(화) | D65: 14(수) | E65: 15(목) | F65: 16(금) | G65: 17(토) | H65: 18(일)
B66: 다슬기무국 자반고등어조림 도라지실채볶음 새우젓무침 배추김치 | C66: 바지락호박두부국 계란야채범벅 깻잎나물 간장고추무침 배추김치 | D66: 멸치감자된장국 꽁치튀김양념 감자채당근볶음 오징어젓무침 배추김치 | E66: 시금치국 두부양념조림 멸치견과류볶음 근대나물 배추김치 | F66: 얼큰콩나물국 조기구이 피망감자채볶음 아주까리볶음 배추김치 | G66: 바지락미역국 메추리알장조림 고사리들깨볶음 볼어묵조림 배추김치 | H66: 감자토란국 소고기팽이볶음 오이무침 도토리묵/양념장 배추김치
A68: 행복을
A69: 여는
A70: 아 침
A73: 정성이 가득한 점 심 | B73: 바지락미역국 탕수육 /후르츠소스 새송이죽순볶음 어묵야채볶음 양배추그린샐러드 배추김치 | C73: 얼갈이된장국 돈육김치불고기 브로컬리햄볶음 도토리묵야채무침 만두떡강정 배추김치 | D73: 냉이된장국 유산슬 오이야채무침 푸실리야채샐러드 양념깻잎지 배추김치 | E73: 바지락수제비국 동태무조림 /돈까스/소스 콩나물부추무침 미역줄기맛살볶음 깻잎부추전 배추김치 | F73: 건새우아욱국 마파두부 상추쑥갓무침 마늘쫑버섯볶음 마카로니콘샐러드 배추김치 | G73: 콩나물무채국 닭묵은지볶음 죽순버섯들깨볶음 양파고추장아찌 배추김치 | H73: 배추된장국 돈육간장불고기 호박새우젓무침 건파래볶음 배추김치
A80: 건강을 생각하는 저 녁 | B80: 근대국 삼치양파조림 상추양배추무침 간장깻잎지 배추김치 | C80: 물만두야채국 청파래오징어까스 우렁강된장 열무된장무침 배추김치 | D80: 맑은순두부국 캔꽁치무조림 애호박양파볶음 참나물팽이초무침 배추김치 | E80: 올갱이해장국 야채계란찜 가지찜/ 양념장 오징어젓야채무침 배추김치 | F80: 유부팽이무채국 돈육간장불고기 무장아찌무침 오이맛살샐러드 배추김치 | G80: 북어미역국 가자미무조림 양파간장볶음 도라지오이무침 배추김치 | H80: 순두부국 야채계란말이 어묵양파볶음 조개젓무침 배추김치
A87: 돼지고기, 닭고기, 쌀 - 국내산, 소고기 -호주산, 김치(배추 - 국내산), 육가공품 - 개별 기재
A88: 위식단은 식재료 수급 및 식단 향상을 위해 변경될 수 있습니다.
A99: 구 분 | B99: 19(월) | C99: 20(화) | D99: 21(수) | E99: 22(목) | F99: 23(금) | G99: 24토) | H99: 25일)
B100: 얼갈이된장국 삼치조림 오복지무침 청포묵/양념장 배추김치 | C100: 팽이된장국 소고기볶음 새우젓호박볶음 도토리묵/양념장 배추김치 | D100: 북어무국 닭안심야채조림 아주까리나물 새우젓무침 배추김치 | E100: 콩나물맑은국 자반고등어조림 명엽채볶음 상추오이무침 배추김치 | F100: 얼갈이된장국 돈육메알조림 꽈리고추양파조림 조개젓무침 배추김치 | G100: 바지락미역국 오리야채볶음 호박새우젓조림 청경채무침 배추김치 | H100: 애호박된장국 조기구이 건새우야채볶음 호박새우젓조림 배추김치
A102: 행복을
A103: 여는
A104: 아 침
A107: 정성이 가득한 점 심 | B107: 꽃게매운탕 순대야채볶음 미역오이초무침 양상추푸실리샐럿 양념깻잎지 배추김치 | C107: 조갯살미역국 돈육김치볶음 어묵야채볶음 상추야채무침 교자만두튀김/간장 배추김치 | D107: 바지락냉이국 야채짜장볶음 프랑크마늘쫑볶음 오이양파무침 고구마빠스 배추김치 | E107: 아욱된장국 생선까스/타르소스 도토리묵쑥갓무침 미역줄기볶음 수박 배추김치 | F107: 청국장찌개 닭야채매운볶음 /미트볼파스타 브로컬리맛살볶음 콩나물부추무침 깍두기 배추김치 | G107: 얼갈이된장국 목이당면잡채 무장아찌무침 오이양파무침 배추김치 | H107: 북어무국 소고기불고기 콩나물무침 멸치견과류볶음 배추김치
A114: 건강을 생각하는 저 녁 | B114: 근대된장국 두부양념조림 동그랑땡피망볶음 청경채초무침 배추김치 | C114: 콩가루배춧국 고등어조림 숙주부추무침 새송이양배추무침 배추김치 | D114: 떡만두국 야채고추참치 열무쌈장무침 오징어젓무침 배추김치 | E114: 김치돈육찌개 계란장조림 참나물흑임자샐럿 시래기지짐 배추김치 | F114: 홍합두부무국 삼치구이데리야끼 새송이미나리무침 고구마순들깨볶음 배추김치 | G114: 김치콩나물국 동그랑땡야채볶음 어묵곤약조림 참나물팽이무침 배추김치 | H114: 시금치된장국 순살닭볶음 어묵볶음 마늘쫑고추장무침 배추김치
A121: 돼지고기, 닭고기, 쌀 - 국내산, 소고기 -호주산, 김치(배추 - 국내산), 육가공품 - 개별 기재
A122: 위식단은 식재료 수급 및 식단 향상을 위해 변경될 수 있습니다.
B136: 26(월) | C136: 27(화) | D136: 28(수) | E136: 29(목) | F136: 30(금) | G136: 31(토)
B137: 토란감자국 꽁치조림 감자채볶음 조개젓무침 배추김치 | C137: 시금치국 계란스크램블 마늘쫑맛살볶음 연근조림 배추김치 | D137: 다시마무채국 소고기불고기 묵은지된장지짐 족파김무침 배추김치 | E137: 북어계란국 돈육감자조림 애호박무침 무장아찌무침 배추김치 | F137: 참치김치국 조기구이 볼어묵양파조림 오징어젓무침 배추김치 | G137: 호박된장국 자반고등어조림 볼어묵조림 파래자반볶음 배추김치
B144: 무청시래기국 돈까스/파인소스 두반장가지볶음 청포묵야채무침 옥수수콘샐러드 배추김치 | C144: 바지락미역국 돈육김치불고기 오이야채무침 숙주나물무침 만두튀김/소스 배추김치 | D144: 건새우아욱국 부대야채볶음 새송이양배추무침 열무된장무침 오징어젓무침 배추김치 | E144: 꽃게호박된장국 가자미무조림 /깐풍육 콩나물부추무침 어묵야채볶음 양파장아찌 배추김치 | F144: 다슬기해장국 고추잡채 에호박양파볶음 양상추그린샐러드 쫄면야채무침 배추김치 | G144: 팽이두부된장국 닭야채볶음 브로컬리햄볶음 가지찜양념무침 배추김치
B151: 순두부김치국 꽁치캔무조림 감자엿장조림 얼갈이된장무침 배추김치 | C151: 얼갈이된장국 삼치무조림 참나물상추무침 미역오이무침 배추김치 | D151: 팽이두부된장국 오징어고로깨 청경채겉절이 미역줄기볶음 배추김치 | E151: 근대된장국 옥수수계란찜 마늘쫑버섯볶음 알감자조림 배추김치 | F151: 어묵콩나물국 동태조림 시래기조림 실곤약야채무침 배추김치 | G151: 김치돈육찌개 버섯당면잡채 어묵야채볶음 양배추그린샐러드 배추김치
A159: 위식단은 식재료 수급 및 식단 향상을 위해 변경될 수 있습니다.
