Workbook

Sheet 월간식단표
A1: 11월 월간식단표
A2: 구 분 | B2: =주간식단표!B2 -> 28(월) | C2: =주간식단표!C2 -> 29(화) | D2: =주간식단표!D2 -> 30(수) | E2: =주간식단표!E2 -> 31(목) | F2: =주간식단표!F2 -> 11/1(금) | G2: =주간식단표!G2 -> 11/2(토) | H2: =주간식단표!H2 -> 11/3(일)
A3: 행복을 여는 아침 | B3: =주간식단표!B3 -> 다시마무채국 계란야채범벅 두부조림 쑥갓나물 배추김치 | C3: =주간식단표!C3 -> 감자토란국 메추리알곤약볶음 건파래무침 상추겉절이 배추김치 | D3: =주간식단표!D3 -> 두부홍합국 돈채가지볶음 볼어묵볶음 무장아찌무침 배추김치 | E3: =주간식단표!E3 -> 시금치된장국 닭표고조림 아주까리볶음 오이무침 배추김치 | F3: =주간식단표!F3 -> 근대된장국 두부양념조림 콩나물무침 오복지무침 배추김치 | G3: =주간식단표!G3 -> 홍합무채국 조기구이 새송이굴소스볶음 무장아찌무침 배추김치 | H3: =주간식단표!H3 -> 감자토란들깨국 닭안심조림 청포묵/양념장 고사리볶음 배추김치
A10: 정성이 가득한 점 심 | B10: =주간식단표!B10 -> 냉이순두부국 탕수육/레몬소스 열무솎음겉절이 미역줄기볶음 배추김치 | C10: =주간식단표!C10 -> 물만두야채국 제육김치볶음 오이야채무침 마늘쫑햄볶음 배추김치 | D10: =주간식단표!D10 -> 건새우아욱국 마파두부 콩나물부추무침 모듬버섯죽순볶음 배추김치 | E10: =주간식단표!E10 -> 소고기무국 고등어무조림 어묵곤약볶음 모듬야채샐러드 배추김치 | F10: =주간식단표!F10 -> 어묵무국 부추잡채 도라지오이무침 브로컬리가지볶음 배추김치 | G10: =주간식단표!G10 -> 건새우아욱국 닭살김치볶음 어묵양파볶음 미역오이무침 배추김치 | H10: =주간식단표!H10 -> 콩나물매운국 돈육간장불고기 메추리알곤약조림 우엉채조림 배추김치
A17: 건강을 생각하는 저 녁 | B17: =주간식단표!B17 -> 북어콩나물국 다진고기야채볶음 꼬시래기오이무침 가지찜양념무침 배추김치 | C17: =주간식단표!C17 -> 청국장찌개 가자미무조림 애호박야채볶음 도토리묵야채무침 배추김치 | D17: =주간식단표!D17 -> 바지락미역국 캔꽁치무조림 무청시래기조림 오징어젓야채무침 배추김치 | E17: =주간식단표!E17 -> 꽃게매운탕 계란야채찜 상추오이무침 우렁강된장 배추김치 | F17: =주간식단표!F17 -> 바지락미역국 삼치무조림 숙주야채무침 마늘쫑고추장무침 배추김치 | G17: =주간식단표!G17 -> 야채수제비국 다진고기두부조림 양파고추간장지 솎음배추무침 배추김치 | H17: =주간식단표!H17 -> 열무된장국 참치김치볶음 오이고추무침 숙주나물무침 배추김치
A24: 구 분 | B24: =주간식단표!B27 -> 4(월) | C24: =주간식단표!C27 -> 5(화) | D24: =주간식단표!D27 -> 6(수) | E24: =주간식단표!E27 -> 7(목) | F24: =주간식단표!F27 -> 8(금) | G24: =주간식단표!G27 -> 9(토) | H24: =주간식단표!H27 -> 10일)
B25: =주간식단표!B28 -> 북어두부탕 소고기볶음 호박새우젓조림 무채나물 배추김치 | C25: =주간식단표!C28 -> 시금치국 고등어구이조림 볼어묵조림 오징어젓무침 배추깁치 | D25: =주간식단표!D28 -> 토란감자국 메추리알장조림 오이무침 간장고추지 배추김치 | E25: =주간식단표!E28 -> 버섯무채들깨국 오징어볶음 양념깻잎지 숙주나물 배추김치 | F25: =주간식단표!F28 -> 얼갈이된장국 조기구이 곤약버섯조림 상추무침 배추깁치 | G25: =주간식단표!G28 -> 북어무국 돈육무조림 참나물무침 오복지무침 배추깁치 | H25: =주간식단표!H28 -> 콩나물국 야채계란범벅 잔멸치볶음 무생채 배추김치
A27: 행복을
A28: 여는
A29: 아 침
A32: 정성이 가득한 점 심 | B32: =주간식단표!B35 -> 청국장찌개 돈육짜장볶음 어묵애호박볶음 오이꼬시래기무침 배추김치 | C32: =주간식단표!C35 -> 꽃게호박된장국 김치제육볶음 콩나물부추무침 양파고추간장지 배추김치 | D32: =주간식단표!D35 -> 김치돈육찌개 고등어조림 상추오이무침 미역줄기볶음 배추깁치 | E32: =주간식단표!E35 -> 미더덕된장국 돈까스/파인소스 새송이죽순들깨볶음 도토리묵야채무침 배추깁치 | F32: =주간식단표!F35 -> 고기순두부국 춘천닭갈비 열무얼갈이무침 양상추그린샐러드 배취깁치 | G32: =주간식단표!G35 -> 소고기미역국 버섯당면잡채 오이양배추무침 어묵야채볶음 배추김치 | H32: =주간식단표!H35 -> 근대된장국 소고기전골 프랑크피망볶음 오징어젓무침 배추김치
A39: 건강을 생각하는 저 녁 | B39: =주간식단표!B42 -> 바지락부추국 오징어닭살볶음 마늘쫑가지볶음 마카로니콘샐러드 배추깁치 | C39: =주간식단표!C42 -> 물만두계란국 고추참치야채볶음 열무솎음배추무침 고사리들깨볶음 배추김치 | D39: =주간식단표!D42 -> 근대된장국 계란야채찜 가지두반장볶음 무장아찌무침 배추김치 | E39: =주간식단표!E42 -> 바지락미역국 캔꽁치무조림 양배추찜무침 어묵야채볶음 배추김치 | F39: =주간식단표!F42 -> 수제비야채국 동태무조림 청경채팽이무침 애호박마늘쫑볶음 배추김치 | G39: =주간식단표!G42 -> 보리새우아욱국 동그랑땡계란부침 무청시래기조림 미역오이초무침 배추깁치 | H39: =주간식단표!H42 -> 북어무국 가자미조림 새우젓호박조림 무장아찌무침 배추김치
A46: 구 분 | B46: =주간식단표!B51 -> 11(월) | C46: =주간식단표!C51 -> 12(화) | D46: =주간식단표!D51 -> 13(수) | E46: =주간식단표!E51 -> 14(목) | F46: =주간식단표!F51 -> 15(금) | G46: =주간식단표!G51 -> 16(토) | H46: =주간식단표!H51 -> 17(일)
B47: =주간식단표!B52 -> 다슬기무국 두부양념조림 느타리들깨탕 건파래무침 배추김치 | C47: =주간식단표!C52 -> 홍합두부맑은국 메추리알장조림 숙주무침 동그랑땡전 배추김치 | D47: =주간식단표!D52 -> 북어무국 닭살야채볶음 고사리나물 오징어젓무침 배추김치 | E47: =주간식단표!E52 -> 토란감자들깨국 꽁치튀김조림 우엉채조림 상추겉절이 배추깁치 | F47: =주간식단표!F52 -> 시금치국 소고기팽이볶음 마늘쫑장아찌 오이무침 배추김치 | G47: =주간식단표!G52 -> 호박두부된장국 조기구이 숙주부추무침 오복지무침 배추김치 | H47: =주간식단표!H52 -> 콩나물국 너비아니조림 솎음배추나물 애호박볶음 배추김치
A49: 행복을
A50: 여는
A51: 아 침
A54: 정성이 가득한 점 심 | B54: =주간식단표!B59 -> 꽃게호박된장국 순대깻잎볶음 콩나물무침 브로컬리맛살볶음 배추김치 | C54: =주간식단표!C59 -> 어묵무국 돈김치불고기 실곤약야채샐러드 오이상추무침 배추김치 | D54: =주간식단표!D59 -> 바지락냉이국 탕수육/레몬소스 마늘쫑어묵볶음 미역오이무침 배추깁치 | E54: =주간식단표!E59 -> 순두부찌개 고추잡채 가지야채볶음 열무배추겉절이 배추김치 | F54: =주간식단표!F59 -> 바지락미역국 고등어무조림 도토리묵야채무침 미역줄기볶음 배추김치 | G54: =주간식단표!G59 -> 근대된장국 닭야채조림 어묵양파볶음 양념깻잎지 배추김치 | H54: =주간식단표!H59 -> 북어무계란국 돼지불고기 감자채볶음 오징어젓무침 배추김치
A61: 건강을 생각하는 저 녁 | B61: =주간식단표!B66 -> 청국장찌개 가자미튀김 오이도라지무침 고구마순볶음 배추김치 | C61: =주간식단표!C66 -> 닭표고무국 계란꽈리장조림 함박피망볶음 근대된장무침 배추김치 | D61: =주간식단표!D66 -> 우렁살된장국 삼치무조림 너비아니햄볶음 참나물양배추무침 배추김치 | E61: =주간식단표!E66 -> 돈뼈우거지국 함박스테이크 상추야채무침 무장아찌무침 배추김치 | F61: =주간식단표!F66 -> 북어콩나물국 옥수수고로깨 무청시래기조림 상추오이무침 배추김치 | G61: =주간식단표!G66 -> 김치돈육찌개 두부양념조림 우렁강된장 실곤약야채무침 배추김치 | H61: =주간식단표!H66 -> 오징어짬뽕국 계란야채범벅 두부부침 마늘쫑무침 배추김치
A68: 구 분 | B68: =주간식단표!B75 -> 18(월) | C68: =주간식단표!C75 -> 19(화) | D68: =주간식단표!D75 -> 20(수) | E68: =주간식단표!E75 -> 21(목) | F68: =주간식단표!F75 -> 22(금) | G68: =주간식단표!G75 -> 23(토) | H68: =주간식단표!H75 -> 24일)
B69: =주간식단표!B76 -> 북어계란국 자반고등어조림 아주까리나물 깻잎볶음 배추깁치 | C69: =주간식단표!C76 -> 콩나물국 떡갈비피망조림 고사리볶음 무장아찌무침 배추김치 | D69: =주간식단표!D76 -> 홍합표고무국 꽁치구이/양념장 땅콩조림 가지찜무침 배추김치 | E69: =주간식단표!E76 -> 시래기들깨국 돈채메추리알조림 양파간장볶음 시금치무침 배추김치 | F69: =주간식단표!F76 -> 다슬기무국 돈육슉주볶음 취나물볶음 양념깻잎지 배추김치 | G69: =주간식단표!G76 -> 홍합미역국 비엔나떡갈비조림 호박새우젓볶음 무채들깨나물 배추김치 | H69: =주간식단표!H76 -> 시금치국 조기구이 동그랑땡조림 오징어젓무침 배추김치
A71: 행복을
A72: 여는
A73: 아 침
A76: 정성이 가득한 점 심 | B76: =주간식단표!B83 -> 아욱된장국 생선까스/타르소스 콩나물부추무침 마늘쫑햄볶음 배추깁치 | C76: =주간식단표!C83 -> 청국장찌개 고추장불고기 브로컬리양배추볶음 양파고추장아찌 배추김치 | D76: =주간식단표!D83 -> 소고기육개장 마파두부 상추오이무침 어묵야채볶음 배추김치 | E76: =주간식단표!E83 -> 냉이김치국 동태조림 미역줄기볶음 도토리묵상추무침 배추김치 | F76: =주간식단표!F83 -> 바지락순두부국 김치닭갈비 버섯죽순볶음 오이도라지무침 배추김치 | G76: =주간식단표!G83 -> 가츠오부씨어묵국 부추당면잡채 콩나물무침 무청시래기조림 배추김치 | H76: =주간식단표!H83 -> 토란감자들깨국 소고기볶음 무채들기름볶음 볼어묵피망조림 배추김치
A83: 건강을 생각하는 저 녁 | B83: =주간식단표!B90 -> 팽이무채국 삼치무조림 오이부추무침 건파래볶음 배추김치 | C83: =주간식단표!C90 -> 닭살미역국 참치무조림 고구마순볶음 청포묵/양념장 배추깁치 | D83: =주간식단표!D90 -> 바지락수제비국 야채짜장볶음 단무지야채무침 단호박튀김 배추김치 | E83: =주간식단표!E90 -> 꽃게호박된장국 야채계란찜 열무부추무침 오징어젓무침 배추김치 | F83: =주간식단표!F90 -> 무청시래기국 고등어조림 숙주부추무침 무장아찌무침 배추김치 | G83: =주간식단표!G90 -> 콩나물두부국 오삼불고기 마늘쫑양파무침 오이상추무침 배추김치 | H83: =주간식단표!H90 -> 조갯살두부국 가자미조림 새송이굴소스볶음 오이양파무침 배추김치
A90: 구 분 | B90: =주간식단표!B99 -> 25(월) | C90: =주간식단표!C99 -> 26(화) | D90: =주간식단표!D99 -> 27(수) | E90: =주간식단표!E99 -> 28/(목) | F90: =주간식단표!F99 -> 29/(금) | G90: =주간식단표!G99 -> 30/(토)
B91: =주간식단표!B100 -> 소고기무국 계란야채범벅 두부조림 양념깻잎지 배추김치 | C91: =주간식단표!C100 -> 감자토란국 돈육꽈리조림 건파래볶음 볼어묵조림 배추김치 | D91: =주간식단표!D100 -> 두부팽이맑은국 북어고추장구이 볼어묵볶음 오이무침 배추김치 | E91: =주간식단표!E100 -> 시금치된장국 가자미조림 아주까리볶음 오복지무침 배추김치 | F91: =주간식단표!F100 -> 근대된장국 두부양념조림 콩나물무침 깻잎장아찌 배추김치 | G91: =주간식단표!G100 -> 홍합두부무국 조기구이 새송이굴소스볶음 콩나물무침 배추김치
A93: 행복을
A94: 여는
A95: 아 침
A98: 정성이 가득한 점 심 | B98: =주간식단표!B107 -> 다슬기해장국 순대야채볶음 청경채야채무침 마늘쫑버섯볶음 배추김치 | C98: =주간식단표!C107 -> 야채수제비국 제육김치볶음 콩나물부추무침 미역줄기볶음 배추김치 | D98: =주간식단표!D107 -> 건새우아욱국 함박떡갈비조림 오이상추무침 브로콜리햄볶음 배추김치 | E98: =주간식단표!E107 -> 닭살미역국 삼치무조림 어묵야채볶음 참나물그린샐러드 배추김치 | F98: =주간식단표!F107 -> 꽃게호박된장국 유산슬 열무배추겉절이 버섯양배추무침 배추김치 | G98: =주간식단표!G107 -> 물만두야채국 닭정육김치찜 가지들깨볶음 양파간장고추지 배추김치
A105: 건강을 생각하는 저 녁 | B105: =주간식단표!B114 -> 북어콩나물국 캔꽁치무조림 애호박야채볶음 고구마순볶음 배추김치 | C105: =주간식단표!C114 -> 얼갈이된장국 고등어카래구이 솎음배추겉절이 간장깻잎지 배추김치 | D105: =주간식단표!D114 -> 바지락순두부국 야채고추참치 우렁살강된장 참나물야채무침 배추김치 | E105: =주간식단표!E114 -> 우거지들깨국 계란장조림 가지매운볶음 무장아찌무침 배추김치 | F105: =주간식단표!F114 -> 어묵콩나물국 두부양념조림 도토리묵야채무침 고사리들깨볶음 배추김치 | G105: =주간식단표!G114 -> 열무된장국 동태무조림 브로콜리햄볶음 오이상추무침 배추김치
A113: 위식단은 식재료 수급 및 식단 향상을 위해 변경될 수 있습니다.

Sheet 주간식단표
A1: 주 간 식단 표
A2: 구 분 | B2: 28(월) | C2: 29(화) | D2: 30(수) | E2: 31(목) | F2: 11/1(금) | G2: 11/2(토) | H2: 11/3(일)
B3: 다시마무채국 계란야채범벅 두부조림 쑥갓나물 배추김치 | C3: 감자토란국 메추리알곤약볶음 건파래무침 상추겉절이 배추김치 | D3: 두부홍합국 돈채가지볶음 볼어묵볶음 무장아찌무침 배추김치 | E3: 시금치된장국 닭표고조림 아주까리볶음 오이무침 배추김치 | F3: 근대된장국 두부양념조림 콩나물무침 오복지무침 배추김치 | G3: 홍합무채국 조기구이 새송이굴소스볶음 무장아찌무침 배추김치 | H3: 감자토란들깨국 닭안심조림 청포묵/양념장 고사리볶음 배추김치
A5: 행복을
A6: 여는
A7: 아 침
A10: 정성이 가득한 점 심 | B10: 냉이순두부국 탕수육/레몬소스 열무솎음겉절이 미역줄기볶음 배추김치 | C10: 물만두야채국 제육김치볶음 오이야채무침 마늘쫑햄볶음 배추김치 | D10: 건새우아욱국 마파두부 콩나물부추무침 모듬버섯죽순볶음 배추김치 | E10: 소고기무국 고등어무조림 어묵곤약볶음 모듬야채샐러드 배추김치 | F10: 어묵무국 부추잡채 도라지오이무침 브로컬리가지볶음 배추김치 | G10: 건새우아욱국 닭살김치볶음 어묵양파볶음 미역오이무침 배추김치 | H10: 콩나물매운국 돈육간장불고기 메추리알곤약조림 우엉채조림 배추김치
A17: 건강을 생각하는 저 녁 | B17: 북어콩나물국 다진고기야채볶음 꼬시래기오이무침 가지찜양념무침 배추김치 | C17: 청국장찌개 가자미무조림 애호박야채볶음 도토리묵야채무침 배추김치 | D17: 바지락미역국 캔꽁치무조림 무청시래기조림 오징어젓야채무침 배추김치 | E17: 꽃게매운탕 계란야채찜 상추오이무침 우렁강된장 배추김치 | F17: 바지락미역국 삼치무조림 숙주야채무침 마늘쫑고추장무침 배추김치 | G17: 야채수제비국 다진고기두부조림 양파고추간장지 솎음배추무침 배추김치 | H17: 열무된장국 참치김치볶음 오이고추무침 숙주나물무침 배추김치
A24: 위식단은 식재료 수급 및 식단 향상을 위해 변경될 수 있습니다.
A25: 주 간 식단 표
A27: 구 분 | B27: 4(월) | C27: 5(화) | D27: 6(수) | E27: 7(목) | F27: 8(금) | G27: 9(토) | H27: 10일)
B28: 북어두부탕 소고기볶음 호박새우젓조림 무채나물 배추김치 | C28: 시금치국 고등어구이조림 볼어묵조림 오징어젓무침 배추깁치 | D28: 토란감자국 메추리알장조림 오이무침 간장고추지 배추김치 | E28: 버섯무채들깨국 오징어볶음 양념깻잎지 숙주나물 배추김치 | F28: 얼갈이된장국 조기구이 곤약버섯조림 상추무침 배추깁치 | G28: 북어무국 돈육무조림 참나물무침 오복지무침 배추깁치 | H28: 콩나물국 야채계란범벅 잔멸치볶음 무생채 배추김치
A30: 행복을
A31: 여는
A32: 아 침
A35: 정성이 가득한 점 심 | B35: 청국장찌개 돈육짜장볶음 어묵애호박볶음 오이꼬시래기무침 배추김치 | C35: 꽃게호박된장국 김치제육볶음 콩나물부추무침 양파고추간장지 배추김치 | D35: 김치돈육찌개 고등어조림 상추오이무침 미역줄기볶음 배추깁치 | E35: 미더덕된장국 돈까스/파인소스 새송이죽순들깨볶음 도토리묵야채무침 배추깁치 | F35: 고기순두부국 춘천닭갈비 열무얼갈이무침 양상추그린샐러드 배취깁치 | G35: 소고기미역국 버섯당면잡채 오이양배추무침 어묵야채볶음 배추김치 | H35: 근대된장국 소고기전골 프랑크피망볶음 오징어젓무침 배추김치
A42: 건강을 생각하는 저 녁 | B42: 바지락부추국 오징어닭살볶음 마늘쫑가지볶음 마카로니콘샐러드 배추깁치 | C42: 물만두계란국 고추참치야채볶음 열무솎음배추무침 고사리들깨볶음 배추김치 | D42: 근대된장국 계란야채찜 가지두반장볶음 무장아찌무침 배추김치 | E42: 바지락미역국 캔꽁치무조림 양배추찜무침 어묵야채볶음 배추김치 | F42: 수제비야채국 동태무조림 청경채팽이무침 애호박마늘쫑볶음 배추김치 | G42: 보리새우아욱국 동그랑땡계란부침 무청시래기조림 미역오이초무침 배추깁치 | H42: 북어무국 가자미조림 새우젓호박조림 무장아찌무침 배추김치
A49: 위식단은 식재료 수급 및 식단 향상을 위해 변경될 수 있습니다.
A50: 주 간 식단 표
A51: 구 분 | B51: 11(월) | C51: 12(화) | D51: 13(수) | E51: 14(목) | F51: 15(금) | G51: 16(토) | H51: 17(일)
B52: 다슬기무국 두부양념조림 느타리들깨탕 건파래무침 배추김치 | C52: 홍합두부맑은국 메추리알장조림 숙주무침 동그랑땡전 배추김치 | D52: 북어무국 닭살야채볶음 고사리나물 오징어젓무침 배추김치 | E52: 토란감자들깨국 꽁치튀김조림 우엉채조림 상추겉절이 배추깁치 | F52: 시금치국 소고기팽이볶음 마늘쫑장아찌 오이무침 배추김치 | G52: 호박두부된장국 조기구이 숙주부추무침 오복지무침 배추김치 | H52: 콩나물국 너비아니조림 솎음배추나물 애호박볶음 배추김치
A54: 행복을
A55: 여는
A56: 아 침
A59: 정성이 가득한 점 심 | B59: 꽃게호박된장국 순대깻잎볶음 콩나물무침 브로컬리맛살볶음 배추김치 | C59: 어묵무국 돈김치불고기 실곤약야채샐러드 오이상추무침 배추김치 | D59: 바지락냉이국 탕수육/레몬소스 마늘쫑어묵볶음 미역오이무침 배추깁치 | E59: 순두부찌개 고추잡채 가지야채볶음 열무배추겉절이 배추김치 | F59: 바지락미역국 고등어무조림 도토리묵야채무침 미역줄기볶음 배추김치 | G59: 근대된장국 닭야채조림 어묵양파볶음 양념깻잎지 배추김치 | H59: 북어무계란국 돼지불고기 감자채볶음 오징어젓무침 배추김치
A66: 건강을 생각하는 저 녁 | B66: 청국장찌개 가자미튀김 오이도라지무침 고구마순볶음 배추김치 | C66: 닭표고무국 계란꽈리장조림 함박피망볶음 근대된장무침 배추김치 | D66: 우렁살된장국 삼치무조림 너비아니햄볶음 참나물양배추무침 배추김치 | E66: 돈뼈우거지국 함박스테이크 상추야채무침 무장아찌무침 배추김치 | F66: 북어콩나물국 옥수수고로깨 무청시래기조림 상추오이무침 배추김치 | G66: 김치돈육찌개 두부양념조림 우렁강된장 실곤약야채무침 배추김치 | H66: 오징어짬뽕국 계란야채범벅 두부부침 마늘쫑무침 배추김치
A73: 위식단은 식재료 수급 및 식단 향상을 위해 변경될 수 있습니다.
A74: 주 간 식단 표
A75: 구 분 | B75: 18(월) | C75: 19(화) | D75: 20(수) | E75: 21(목) | F75: 22(금) | G75: 23(토) | H75: 24일)
B76: 북어계란국 자반고등어조림 아주까리나물 깻잎볶음 배추깁치 | C76: 콩나물국 떡갈비피망조림 고사리볶음 무장아찌무침 배추김치 | D76: 홍합표고무국 꽁치구이/양념장 땅콩조림 가지찜무침 배추김치 | E76: 시래기들깨국 돈채메추리알조림 양파간장볶음 시금치무침 배추김치 | F76: 다슬기무국 돈육슉주볶음 취나물볶음 양념깻잎지 배추김치 | G76: 홍합미역국 비엔나떡갈비조림 호박새우젓볶음 무채들깨나물 배추김치 | H76: 시금치국 조기구이 동그랑땡조림 오징어젓무침 배추김치
A78: 행복을
A79: 여는
A80: 아 침
A83: 정성이 가득한 점 심 | B83: 아욱된장국 생선까스/타르소스 콩나물부추무침 마늘쫑햄볶음 배추깁치 | C83: 청국장찌개 고추장불고기 브로컬리양배추볶음 양파고추장아찌 배추김치 | D83: 소고기육개장 마파두부 상추오이무침 어묵야채볶음 배추김치 | E83: 냉이김치국 동태조림 미역줄기볶음 도토리묵상추무침 배추김치 | F83: 바지락순두부국 김치닭갈비 버섯죽순볶음 오이도라지무침 배추김치 | G83: 가츠오부씨어묵국 부추당면잡채 콩나물무침 무청시래기조림 배추김치 | H83: 토란감자들깨국 소고기볶음 무채들기름볶음 볼어묵피망조림 배추김치
A90: 건강을 생각하는 저 녁 | B90: 팽이무채국 삼치무조림 오이부추무침 건파래볶음 배추김치 | C90: 닭살미역국 참치무조림 고구마순볶음 청포묵/양념장 배추깁치 | D90: 바지락수제비국 야채짜장볶음 단무지야채무침 단호박튀김 배추김치 | E90: 꽃게호박된장국 야채계란찜 열무부추무침 오징어젓무침 배추김치 | F90: 무청시래기국 고등어조림 숙주부추무침 무장아찌무침 배추김치 | G90: 콩나물두부국 오삼불고기 마늘쫑양파무침 오이상추무침 배추김치 | H90: 조갯살두부국 가자미조림 새송이굴소스볶음 오이양파무침 배추김치
A97: 위식단은 식재료 수급 및 식단 향상을 위해 변경될 수 있습니다.
A98: 주 간 식단 표
A99: 구 분 | B99: 25(월) | C99: 26(화) | D99: 27(수) | E99: 28/(목) | F99: 29/(금) | G99: 30/(토)
B100: 소고기무국 계란야채범벅 두부조림 양념깻잎지 배추김치 | C100: 감자토란국 돈육꽈리조림 건파래볶음 볼어묵조림 배추김치 | D100: 두부팽이맑은국 북어고추장구이 볼어묵볶음 오이무침 배추김치 | E100: 시금치된장국 가자미조림 아주까리볶음 오복지무침 배추김치 | F100: 근대된장국 두부양념조림 콩나물무침 깻잎장아찌 배추김치 | G100: 홍합두부무국 조기구이 새송이굴소스볶음 콩나물무침 배추김치
A102: 행복을
A103: 여는
A104: 아 침
A107: 정성이 가득한 점 심 | B107: 다슬기해장국 순대야채볶음 청경채야채무침 마늘쫑버섯볶음 배추김치 | C107: 야채수제비국 제육김치볶음 콩나물부추무침 미역줄기볶음 배추김치 | D107: 건새우아욱국 함박떡갈비조림 오이상추무침 브로콜리햄볶음 배추김치 | E107: 닭살미역국 삼치무조림 어묵야채볶음 참나물그린샐러드 배추김치 | F107: 꽃게호박된장국 유산슬 열무배추겉절이 버섯양배추무침 배추김치 | G107: 물만두야채국 닭정육김치찜 가지들깨볶음 양파간장고추지 배추김치
A114: 건강을 생각하는 저 녁 | B114: 북어콩나물국 캔꽁치무조림 애호박야채볶음 고구마순볶음 배추김치 | C114: 얼갈이된장국 고등어카래구이 솎음배추겉절이 간장깻잎지 배추김치 | D114: 바지락순두부국 야채고추참치 우렁살강된장 참나물야채무침 배추김치 | E114: 우거지들깨국 계란장조림 가지매운볶음 무장아찌무침 배추김치 | F114: 어묵콩나물국 두부양념조림 도토리묵야채무침 고사리들깨볶음 배추김치 | G114: 열무된장국 동태무조림 브로콜리햄볶음 오이상추무침 배추김치
A121: 위식단은 식재료 수급 및 식단 향상을 위해 변경될 수 있습니다.

Sheet Sheet1
A1: 주 간 식단 표(2019. 11.1~11.30)
A2: 구 분 | B2: 28(월) | C2: 29(화) | D2: 30(수) | E2: 31(목) | F2: 11/1(금) | G2: 11/2(토) | H2: 11/3(일)
B3: 다시마무채국 계란야채범벅 두부조림 쑥갓나물 배추김치 | C3: 감자토란국 메추리알곤약볶음 건파래무침 상추겉절이 배추김치 | D3: 두부홍합국 돈채가지볶음 볼어묵볶음 무장아찌무침 배추김치 | E3: 시금치된장국 닭표고조림 아주까리볶음 오이무침 배추김치 | F3: 근대된장국 두부양념조림 콩나물무침 오복지무침 배추김치 | G3: 홍합무채국 조기구이 새송이굴소스볶음 무장아찌무침 배추김치 | H3: 감자토란들깨국 닭안심조림 청포묵/양념장 고사리볶음 배추김치
A5: 행복을
A6: 여는
A7: 아 침
A10: 정성이 가득한 점 심 | B10: 냉이순두부국 탕수육/레몬소스 열무솎음겉절이 미역줄기볶음 배추김치 | C10: 물만두야채국 제육김치볶음 오이야채무침 마늘쫑햄볶음 배추김치 | D10: 건새우아욱국 마파두부 콩나물부추무침 모듬버섯죽순볶음 배추김치 | E10: 소고기무국 고등어무조림/ 어묵곤약볶음 모듬야채샐러드 배추김치 | F10: 어묵무국 부추잡채 도라지오이무침 브로컬리가지볶음 배추김치 | G10: 건새우아욱국 닭살김치볶음 어묵양파볶음 미역오이무침 배추김치 | H10: 콩나물매운국 돈육간장불고기 메추리알곤약조림 우엉채조림 배추김치
A17: 건강을 생각하는 저 녁 | B17: 북어콩나물국 다진고기야채볶음 꼬시래기오이무침 가지찜양념무침 배추김치 | C17: 청국장찌개 가자미무조림 애호박야채볶음 도토리묵야채무침 배추김치 | D17: 바지락미역국 캔꽁치무조림 무청시래기조림 오징어젓야채무침 배추김치 | E17: 꽃게매운탕 계란야채찜 상추오이무침 우렁강된장 배추김치 | F17: 바지락미역국 삼치무조림 숙주야채무침 마늘쫑고추장무침 배추김치 | G17: 야채수제비국 다진고기두부조림 양파고추간장지 솎음배추무침 배추김치 | H17: 열무된장국 참치김치볶음 오이고추무침 숙주나물무침 배추김치
A24: 돼지고기, 닭고기, 쌀 - 국내산, 소고기 -호주산, 김치(배추 - 국내산), 육가공품 - 개별 기재
A25: 위식단은 식재료 수급 및 식단 향상을 위해 변경될 수 있습니다.
A33: 구 분 | B33: 4(월) | C33: 5(화) | D33: 6(수) | E33: 7(목) | F33: 8(금) | G33: 9(토) | H33: 10일)
B34: 북어두부탕 소고기볶음 호박새우젓조림 무채나물 배추김치 | C34: 시금치국 고등어구이조림 볼어묵조림 오징어젓무침 배추깁치 | D34: 토란감자국 메추리알장조림 오이무침 간장고추지 배추김치 | E34: 버섯무채들깨국 오징어볶음 양념깻잎지 숙주나물 배추김치 | F34: 얼갈이된장국 조기구이 곤약버섯조림 상추무침 배추깁치 | G34: 북어무국 돈육무조림 참나물무침 오복지무침 배추깁치 | H34: 콩나물국 야채계란범벅 잔멸치볶음 무생채 배추김치
A36: 행복을
A37: 여는
A38: 아 침
A41: 정성이 가득한 점 심 | B41: 청국장찌개 돈육짜장볶음 어묵애호박볶음 오이꼬시래기무침 배추김치 | C41: 꽃게호박된장국 김치제육볶음 콩나물부추무침 양파고추간장지 배추김치 | D41: 김치돈육찌개 고등어조림 상추오이무침 미역줄기볶음 배추깁치 | E41: 미더덕된장국 돈까스/파인소스 새송이죽순들깨볶음 도토리묵야채무침 배추깁치 | F41: 고기순두부국 춘천닭갈비 열무얼갈이무침 양상추그린샐러드 배취깁치 | G41: 소고기미역국 버섯당면잡채 오이양배추무침 어묵야채볶음 배추김치 | H41: 근대된장국 소고기전골 프랑크피망볶음 오징어젓무침 배추김치
A48: 건강을 생각하는 저 녁 | B48: 바지락부추국 오징어닭살볶음 마늘쫑가지볶음 마카로니콘샐러드 배추깁치 | C48: 물만두계란국 고추참치야채볶음 열무솎음배추무침 고사리들깨볶음 배추김치 | D48: 근대된장국 계란야채찜 가지두반장볶음 무장아찌무침 배추김치 | E48: 바지락미역국 캔꽁치무조림 양배추찜무침 어묵야채볶음 배추김치 | F48: 수제비야채국 동태무조림 청경채팽이무침 애호박마늘쫑볶음 배추김치 | G48: 보리새우아욱국 동그랑땡계란부침 무청시래기조림 미역오이초무침 배추깁치 | H48: 북어무국 가자미조림 새우젓호박조림 무장아찌무침 배추김치
A56: 위식단은 식재료 수급 및 식단 향상을 위해 변경될 수 있습니다.
A65: 구 분 | B65: 11(월) | C65: 12(화) | D65: 13(수) | E65: 14(목) | F65: 15(금) | G65: 16(토) | H65: 17(일)
B66: 다슬기무국 두부양념조림 느타리들깨탕 건파래무침 배추김치 | C66: 홍합두부맑은국 메추리알장조림 숙주무침 동그랑땡전 배추김치 | D66: 북어무국 닭살야채볶음 고사리나물 오징어젓무침 배추김치 | E66: 토란감자들깨국 꽁치튀김조림 우엉채조림 상추겉절이 배추깁치 | F66: 시금치국 소고기팽이볶음 마늘쫑장아찌 오이무침 배추김치 | G66: 호박두부된장국 조기구이 숙주부추무침 오복지무침 배추김치 | H66: 콩나물국 너비아니조림 솎음배추나물 애호박볶음 배추김치
A68: 행복을
A69: 여는
A70: 아 침
A73: 정성이 가득한 점 심 | B73: 꽃게호박된장국 순대깻잎볶음 콩나물무침 브로컬리맛살볶음 배추김치 | C73: 어묵무국 돈김치불고기 실곤약야채샐러드 오이상추무침 배추김치 | D73: 바지락냉이국 탕수육/레몬소스 마늘쫑어묵볶음 미역오이무침 배추깁치 | E73: 순두부찌개 고추잡채 가지야채볶음 열무배추겉절이 배추김치 | F73: 바지락미역국 고등어무조림 도토리묵야채무침 미역줄기볶음 배추김치 | G73: 근대된장국 닭야채조림 어묵양파볶음 양념깻잎지 배추김치 | H73: 북어무계란국 돼지불고기 감자채볶음 오징어젓무침 배추김치
A80: 건강을 생각하는 저 녁 | B80: 청국장찌개 가자미튀김 오이도라지무침 고구마순볶음 배추김치 | C80: 닭표고무국 계란꽈리장조림 함박피망볶음 근대된장무침 배추김치 | D80: 우렁살된장국 삼치무조림 너비아니햄볶음 참나물양배추무침 배추김치 | E80: 돈뼈우거지국 함박스테이크 상추야채무침 무장아찌무침 배추김치 | F80: 북어콩나물국 옥수수고로깨 무청시래기조림 상추오이무침 배추김치 | G80: 김치돈육찌개 두부양념조림 우렁강된장 실곤약야채무침 배추김치 | H80: 오징어짬뽕국 계란야채범벅 두부부침 마늘쫑무침 배추김치
A88: 위식단은 식재료 수급 및 식단 향상을 위해 변경될 수 있습니다.
A99: 구 분 | B99: 18(월) | C99: 19(화) | D99: 20(수) | E99: 21(목) | F99: 22(금) | G99: 23(토) | H99: 24일)
B100: 북어계란국 자반고등어조림 아주까리나물 깻잎볶음 배추깁치 | C100: 콩나물국 떡갈비피망조림 고사리볶음 무장아찌무침 배추김치 | D100: 홍합표고무국 꽁치구이/양념장 땅콩조림 가지찜무침 배추김치 | E100: 시래기들깨국 돈채메추리알조림 양파간장볶음 시금치무침 배추김치 | F100: 다슬기무국 돈육슉주볶음 취나물볶음 양념깻잎지 배추김치 | G100: 홍합미역국 비엔나떡갈비조림 호박새우젓볶음 무채들깨나물 배추김치 | H100: 시금치국 조기구이 동그랑땡조림 오징어젓무침 배추김치
A102: 행복을
A103: 여는
A104: 아 침
A107: 정성이 가득한 점 심 | B107: 아욱된장국 생선까스/타르소스 콩나물부추무침 마늘쫑햄볶음 배추깁치 | C107: 청국장찌개 고추장불고기 브로컬리양배추볶음 양파고추장아찌 배추김치 | D107: 소고기육개장 마파두부 상추오이무침 어묵야채볶음 배추김치 | E107: 냉이김치국 동태조림 미역줄기볶음 도토리묵상추무침 배추김치 | F107: 바지락순두부국 김치닭갈비 버섯죽순볶음 오이도라지무침 배추김치 | G107: 가츠오부씨어묵국 부추당면잡채 콩나물무침 무청시래기조림 배추김치 | H107: 토란감자들깨국 소고기볶음 무채들기름볶음 볼어묵피망조림 배추김치
A114: 건강을 생각하는 저 녁 | B114: 팽이무채국 삼치무조림 오이부추무침 건파래볶음 배추김치 | C114: 닭살미역국 참치무조림 고구마순볶음 청포묵/양념장 배추깁치 | D114: 바지락수제비국 야채짜장볶음 단무지야채무침 단호박튀김 배추김치 | E114: 꽃게호박된장국 야채계란찜 열무부추무침 오징어젓무침 배추김치 | F114: 무청시래기국 고등어조림 숙주부추무침 무장아찌무침 배추김치 | G114: 콩나물두부국 오삼불고기 마늘쫑양파무침 오이상추무침 배추김치 | H114: 조갯살두부국 가자미조림 새송이굴소스볶음 오이양파무침 배추김치
A121: 돼지고기, 닭고기, 쌀 - 국내산, 소고기 -호주산, 김치(배추 - 국내산), 육가공품 - 개별 기재
A122: 위식단은 식재료 수급 및 식단 향상을 위해 변경될 수 있습니다.
B136: 25(월) | C136: 26(화) | D136: 27(수) | E136: 28/(목) | F136: 29/(금) | G136: 30/(토)
B137: 소고기무국 계란야채범벅 두부조림 양념깻잎지 배추김치 | C137: 감자토란국 돈육꽈리조림 건파래볶음 볼어묵조림 배추김치 | D137: 두부팽이맑은국 북어고추장구이 볼어묵볶음 오이무침 배추김치 | E137: 시금치된장국 가자미조림 아주까리볶음 오복지무침 배추김치 | F137: 근대된장국 두부양념조림 콩나물무침 깻잎장아찌 배추김치 | G137: 홍합두부무국 조기구이 새송이굴소스볶음 콩나물무침 배추김치
B144: 다슬기해장국 순대야채볶음 청경채야채무침 마늘쫑버섯볶음 배추김치 | C144: 야채수제비국 제육김치볶음 콩나물부추무침 미역줄기볶음 배추김치 | D144: 건새우아욱국 함박떡갈비조림 오이상추무침 브로콜리햄볶음 배추김치 | E144: 닭살미역국 삼치무조림 어묵야채볶음 참나물그린샐러드 배추김치 | F144: 꽃게호박된장국 유산슬 열무배추겉절이 버섯양배추무침 배추김치 | G144: 물만두야채국 닭정육김치찜 가지들깨볶음 양파간장고추지 배추김치
B151: 북어콩나물국 캔꽁치무조림 애호박야채볶음 고구마순볶음 배추김치 | C151: 얼갈이된장국 고등어카래구이 솎음배추겉절이 간장깻잎지 배추김치 | D151: 바지락순두부국 야채고추참치 우렁살강된장 참나물야채무침 배추김치 | E151: 우거지들깨국 계란장조림 가지매운볶음 무장아찌무침 배추김치 | F151: 어묵콩나물국 두부양념조림 도토리묵야채무침 고사리들깨볶음 배추김치 | G151: 열무된장국 동태무조림 브로콜리햄볶음 오이상추무침 배추김치
A159: 위식단은 식재료 수급 및 식단 향상을 위해 변경될 수 있습니다.
